BEGIN:VCALENDAR
VERSION:1.0
PRODID:Open2CKalenderExportV11
BEGIN:VEVENT
DTSTAMP:20231017T072921Z
DTSTART:20240907T000000Z
DTEND:20240907T000000Z
CATEGORIES:Sport
SUMMARY:Mud Masters
DESCRIPTION:Mud Masters Obstacle Run ist ein spannender Hindernis-Parcours, der an echte Marine-Parcours angelehnt ist. Du wirst dich wie der Actionheld fühlen, der du immer sein wolltest, und überwindest zusammen mit deinen Freunden und anderen Teilnehmern die spektakulärsten Hindernisse. Mud Masters leave no one behind! Und das Schöne ist: Durch die verschiedenen Entfernungen kann wirklich jeder die Herausforderung annehmen… Auch du! Wetten? |   | Weitere Informationen und die Anmeldung finden Sie auf der Homepage des Veranstalters.  |   | Organisator   Mud Masters B.V., Kanaalweg 22, 3526 KM Utrecht, Die Niederlande | Kontakt   https://mudmasters.de/
LOCATION:Festplatz Wassertrüdingen und Oettinger Forst
UID:85d10aa529de5bde35a12af3779b7ff8-430693cdc9a6a720167d5f918d4dfb83
PRIORITY:3
END:VEVENT
END:VCALENDAR
