BEGIN:VCALENDAR
VERSION:1.0
PRODID:Open2CKalenderExportV11
BEGIN:VEVENT
DTSTAMP:20231023T060512Z
DTSTART:20240922T000000Z
DTEND:20240922T000000Z
CATEGORIES:Kirchweih
SUMMARY:Kirchweih Schobdach
DESCRIPTION:
LOCATION:Schobdach
UID:0a68e840208a07ca4bed3bc20679d09a-d838e3a2afd1c27ee79c6a0455f498dd
PRIORITY:3
END:VEVENT
END:VCALENDAR
