BEGIN:VCALENDAR
VERSION:1.0
PRODID:Open2CKalenderExportV11
BEGIN:VEVENT
DTSTAMP:20231023T062129Z
DTSTART:20241006T000000Z
DTEND:20241006T000000Z
CATEGORIES:Märkte
SUMMARY:Herbstmarkt
DESCRIPTION:
LOCATION:Markt- und Bahnhofstraße
UID:334fac64c72287350c6e8d3c4b71f286-3eaa4dbdc52a8435f5215d3b183ed769
PRIORITY:3
END:VEVENT
END:VCALENDAR
