BEGIN:VCALENDAR
VERSION:1.0
PRODID:Open2CKalenderExportV11
BEGIN:VEVENT
DTSTAMP:20231023T062315Z
DTSTART:20241013T000000Z
DTEND:20241013T000000Z
CATEGORIES:Kirchweih
SUMMARY:Kirchweih Obermögersheim
DESCRIPTION:
LOCATION:Obermögersheim
UID:891ffd628929a99eaee43e4a883d3f9a-242353f2cdf5f55f56a0b64373797e66
PRIORITY:3
END:VEVENT
END:VCALENDAR
