BEGIN:VCALENDAR
VERSION:1.0
PRODID:Open2CKalenderExportV11
BEGIN:VEVENT
DTSTAMP:20231023T062657Z
DTSTART:20241013T000000Z
DTEND:20241013T000000Z
CATEGORIES:Kirchweih
SUMMARY:Kirchweih Fürnheim
DESCRIPTION:
LOCATION:Fürnheim
UID:891ffd628929a99eaee43e4a883d3f9a-2db1dd17ef52570386a0640f64f256b9
PRIORITY:3
END:VEVENT
END:VCALENDAR
