BEGIN:VCALENDAR
VERSION:1.0
PRODID:Open2CKalenderExportV11
BEGIN:VEVENT
DTSTAMP:20231023T062820Z
DTSTART:20241103T000000Z
DTEND:20241103T000000Z
CATEGORIES:Märkte
SUMMARY:Mantelmarkt
DESCRIPTION:
LOCATION:Markt- und Bahnhofstraße
UID:13168e1c6561e2e431c5ded7c106e771-d8c368376a0f895c262579058b688a8b
PRIORITY:3
END:VEVENT
BEGIN:VEVENT
DTSTAMP:20241022T053847Z
DTSTART:20241105T200000Z
DTEND:20241105T200000Z
CATEGORIES:Bühnen
SUMMARY:Die Wunderübung
DESCRIPTION:von Daniel Glattauer |   | Eine Paartherapie der besonderen Art |   | Wenn zwei sich zanken, dann sitzt der Dritte in der Mitte. So auch bei Valentin und Joana Dorek. Allgemeine Frustration, Betrügereien, gegenseitige Vorwürfe und ungelöste Konflikte haben ihre Ehe auf das Äußerste zermürbt – ein Paartherapeut soll nun Abhilfe schaffen. Doch sind die zwei Zankhälse überhaupt noch therapierbar? Mithilfe verschiedener Rollenspiele sollen Valentin und Joana wieder zueinander finden. Als der erschöpfte Berater in der Sitzungspause eine Nachricht auf seinem Handy erhält, scheinen ihn die Probleme seiner beiden Klienten jedoch mit einem Mal gar nicht mehr zu interessieren…Daniel Glattauers Komödie wurde 2018 mit Devid Striesow in der Rolle des Valentin Dorek verfilmt. Das Publikum erwartet ein Abend voller lustvoller Streits und überraschender Wendungen.
LOCATION:in der Aula der Realschule, Bahnhofstr. 12 in Wassertrüdingen
UID:462dbe1fe25f8c6ef3f64536cdd3db49-de10fd726de6995dd671de0e2f786d1e
PRIORITY:3
END:VEVENT
BEGIN:VEVENT
DTSTAMP:20231017T073656Z
DTSTART:20241110T180000Z
DTEND:20241110T180000Z
CATEGORIES:Kinder
SUMMARY:Nussmärtel-Treiben
DESCRIPTION:Wo genau der „Nußmärtel“ seinen Ursprung hat, darüber gibt es viele Spekulationen, der grimmige Geselle hat aber, so haben Heimatforscher herausgefunden, wohl im evangelisch geprägten Land rund um den Hesselberg seine Tradition. Früher sollte den Kindern damit offensichtlich Respekt eingeflößt werden, im 20. Jahrhundert nahm die Tradition der Nußmärtel dann ab, erst in den 70er Jahren belebte der TSV Wassertrüdingen unter Horst Dorsch die Tradition wieder neu. Seitdem lockt das Spektakel jährlich zahlreiche Besucher und Zuschauer nach Wassertrüdingen. Mit viel Engagement kümmert sich der Verein um die passenden Sponsoren für den Inhalt der Geschenktüten und packt in mehreren Stunden die tausend Tüten für die Kinder. | Der TSV verköstigt die Besucher traditionell mit Würsten, Glühwein und Kinderpunsch. 
LOCATION:Marktstraße
UID:780a46bbafc442ed8826a191058cfc1a-ebfc5010395d9213fc27dd2dbed6f059
PRIORITY:3
END:VEVENT
END:VCALENDAR
