BEGIN:VCALENDAR
VERSION:1.0
PRODID:Open2CKalenderExportV11
BEGIN:VEVENT
DTSTAMP:20241001T115108Z
DTSTART:20241019T193000Z
DTEND:20241019T193000Z
CATEGORIES:Konzerte allgemein
SUMMARY:Konzert mit dem Duo Klezmotions
DESCRIPTION:Am Samstag, den 19.10.2024 lädt Simone Gries zum Konzert mit dem Duo Klezmotions in den Bürgersaal (Kirchgasse, 91717 Wassertrüdingen) ein.  |   | Duo Klezmotions begleitet Astor Piazzolla, den berühmten Tangokomponisten und Bandoneonspieler auf seiner musikalischen Entdeckungsreise in die Hauptstadt Frankreichs, auf der er große Persönlichkeiten trifft, wie die Chanson-Sängerin Edith Piaf, den französischen Tango-Komponisten Richard Galliano und seinen argentinischen Landsmann, Klarinettist Giora Feidman.Stefanie Pagnia, Violine, und Claudia Burkhardt, Akkordeon, erwecken die unterschiedlichen Charaktere zum Leben und lassen deren legendären und berühmten Musikstücke im perfekten Zusammenspiel ihrer Instrumente und klaren Stimmen, in ihrer ganz persönlichen Interpretation erklingen. Die Musikerinnen moderieren abwechselnd die berührende Geschichte Piazzollas. |   | Freuen Sie sich auf spannende Tangos, beschwingte Musettes, lebendigen Klezmer und tiefgehende Eigenkompositionen. | Im Programm: La vie en rose, Libertango, Revirado, Por una Cabeza, MazeltovStefanie Pagnia: Violine, Stimme, KontrabassClaudia Burkhardt: Akkordeon, Stimme |   | Der Beginn ist um 19:30 Uhr, Einlass um 19:00 Uhr. Der Eintritt ist frei. |   | Das Plakat zur Veranstaltung finden Sie hier und weitere Informationen zum Duo Klezmotions
LOCATION:Bürgersaal Wassertrüdingen
UID:0d95798d5ec921bfb873d15476fef2bd-61818c194d1d754874ff3999c33623f5
PRIORITY:3
END:VEVENT
END:VCALENDAR
