BEGIN:VCALENDAR
VERSION:1.0
PRODID:Open2CKalenderExportV11
BEGIN:VEVENT
DTSTAMP:20240917T095515Z
DTSTART:20241013T111500Z
DTEND:20241013T143000Z
CATEGORIES:Specials
SUMMARY:Baustellenfest
DESCRIPTION:Die für Ende des Jahres geplante Reaktivierung der Hesselbergbahn (früher König-Ludwig-Nord-Süd-Bahn) zwischen Gunzenhausen und Wassertrüdingen wird ein bedeutsames Ereignis für die gesamte Region werden. Im Vorfeld der Reaktivierung besucht der Bayerische Staatsminister des Innern, Herr Joachim Herrmann, den Wassertrüdinger Bahnhof. Aus diesem Anlass organisiert die Stadt Wassertrüdingen zusammen mit der Bürgerinitiative „Verbindung zwischen Freunden“ am | Sonntag, den 13. Oktober 2024, ein Bahnfest. (11.15 – 14.30 Uhr) |   | Dazu wird es ein buntes Rahmenprogramm für Jung und Alt geben: |  | Luftballonwettrennen | Hüpfburg | Rikschafahren | Echte Museumslok erleben | Europa-Show-Tanzgarde Wassertrüdingen | Zauberer Ernesto | Jugendkapelle Gunzenhausen |  | Den Flyer zur Veranstaltung finden Sie hier.
LOCATION:Bahnhof Wassertrüdingen
UID:952290eeb035f3e79d13beacefb9e849-4475bc2078717f03cee4e50018775ec7
PRIORITY:3
END:VEVENT
END:VCALENDAR
