BEGIN:VCALENDAR
VERSION:1.0
PRODID:Open2CKalenderExportV11
BEGIN:VEVENT
DTSTAMP:20241022T053847Z
DTSTART:20241105T200000Z
DTEND:20241105T200000Z
CATEGORIES:Bühnen
SUMMARY:Die Wunderübung
DESCRIPTION:von Daniel Glattauer |   | Eine Paartherapie der besonderen Art |   | Wenn zwei sich zanken, dann sitzt der Dritte in der Mitte. So auch bei Valentin und Joana Dorek. Allgemeine Frustration, Betrügereien, gegenseitige Vorwürfe und ungelöste Konflikte haben ihre Ehe auf das Äußerste zermürbt – ein Paartherapeut soll nun Abhilfe schaffen. Doch sind die zwei Zankhälse überhaupt noch therapierbar? Mithilfe verschiedener Rollenspiele sollen Valentin und Joana wieder zueinander finden. Als der erschöpfte Berater in der Sitzungspause eine Nachricht auf seinem Handy erhält, scheinen ihn die Probleme seiner beiden Klienten jedoch mit einem Mal gar nicht mehr zu interessieren…Daniel Glattauers Komödie wurde 2018 mit Devid Striesow in der Rolle des Valentin Dorek verfilmt. Das Publikum erwartet ein Abend voller lustvoller Streits und überraschender Wendungen.
LOCATION:in der Aula der Realschule, Bahnhofstr. 12 in Wassertrüdingen
UID:462dbe1fe25f8c6ef3f64536cdd3db49-de10fd726de6995dd671de0e2f786d1e
PRIORITY:3
END:VEVENT
END:VCALENDAR
