BEGIN:VCALENDAR
VERSION:1.0
PRODID:Open2CKalenderExportV11
BEGIN:VEVENT
DTSTAMP:20241104T094422Z
DTSTART:20250204T200000Z
DTEND:20250204T200000Z
CATEGORIES:Bühnen
SUMMARY:Das perfekte Geheimnis
DESCRIPTION:(Perfetti Sconosciuti)Stück von Paolo GenoveseNach dem italienischen Originalfilm "Perfetti Sconosciuti" von Paolo GenoveseDeutsch von Sabine Heymann |   | Hier hat jeder etwas zu verbergen |   | Sieben Handys liegen auf dem Tisch. Alle eingehenden Nachrichten und Anrufe werden für die Dauer eines Abends mit der gesamten Gruppe geteilt. Was soll da schon groß schiefgehen?Was als harmloses Spiel unter befreundeten Paaren beginnt, löst schnell eine Reihe von Reibereien und Missverständnissen aus. Als nach und nach die heimlichen Betrügereien und unentdeckten Leidenschaften der Mitspielenden ans Tageslicht treten, stellt sich heraus: Hier haben wirklich alle ein Geheimnis! | Die international höchst erfolgreiche Komödie kam 2019 mit Stars wie Elyas M’Barek, Karoline Herfurth und Florian David Fitz in die deutschen Kinos und nun auch ins Landestheater Dinkelsbühl.  | Aufführungsrechte: PER H. LAUKE VERLAG, Hamburgwww.laukeverlag.de
LOCATION:In der Aula der Realschule, Bahnhofstraße 12 in Wassertrüdingen
UID:0d96668a1a0b5be989fa4dfd2ebecf86-14775eaf055f81c7a550eaa8a230e108
PRIORITY:3
END:VEVENT
END:VCALENDAR
