BEGIN:VCALENDAR
VERSION:1.0
PRODID:Open2CKalenderExportV11
BEGIN:VEVENT
DTSTAMP:20240925T060053Z
DTSTART:20240929T160000Z
DTEND:20240929T160000Z
CATEGORIES:Kinder
SUMMARY:Der kleine Drache Eljot
DESCRIPTION:Das Figurentheater Wassertrüdingen lädt zu dem Stück "Der kleine Drache Eljot" ein. |   | Für alle ab 3 Jahren; Spieldauer: ca. 45 Min,; Reservierung erwünscht Reservierungstelefon: 0163/4999865
LOCATION:Neue Schulgasse 1, Wassertrüdingen
UID:9fadb8e0bca57f7e91c4b17c0263607b-0b21c91c3d3b50bb80709cca0abdf2a9
PRIORITY:3
END:VEVENT
END:VCALENDAR
