BEGIN:VCALENDAR
VERSION:1.0
PRODID:Open2CKalenderExportV11
BEGIN:VEVENT
DTSTAMP:20250623T064651Z
DTSTART:20300712T000000Z
DTEND:20300714T000000Z
CATEGORIES:Vereine
SUMMARY:Jubiläumsfest der FFW Obermögersheim 2030
DESCRIPTION:
LOCATION:Obermögersheim
UID:f8aa82ecd0a05a4490fd095a7cd91751-63510eb0b14476d99d672ea93ef0a342
PRIORITY:3
END:VEVENT
END:VCALENDAR
