BEGIN:VCALENDAR
VERSION:1.0
PRODID:Open2CKalenderExportV11
BEGIN:VEVENT
DTSTAMP:20241104T090730Z
DTSTART:20250629T000000Z
DTEND:20250629T000000Z
CATEGORIES:Märkte
SUMMARY:Afrika-Karibik-Markt
DESCRIPTION:Zahlreiche Stände laden zu einem entspannten Bummel ein. Auch Kulinarisch ist wieder einiges geboten. Ein buntes Rahmenprogramm auf der Bühne und zahlreich Acts im Gelände sorgen für Unterhaltung.
LOCATION:Festplatz
UID:880a9521dae3d2d92c4270e723cab0d8-79e3bdd21911823b616e9ca5be8cc2ab
PRIORITY:3
END:VEVENT
END:VCALENDAR
