BEGIN:VCALENDAR
VERSION:1.0
PRODID:Open2CKalenderExportV11
BEGIN:VEVENT
DTSTAMP:20241104T092659Z
DTSTART:20250907T000000Z
DTEND:20250907T000000Z
CATEGORIES:Märkte
SUMMARY:Kirchweihmarkt
DESCRIPTION:
LOCATION:Bahnhofstraße
UID:f9c3646c8c454ce8cb6daae4e3d749bd-33aacd78bfe1e92aa6810c6521705c59
PRIORITY:3
END:VEVENT
BEGIN:VEVENT
DTSTAMP:20250911T080823Z
DTSTART:20250918T190000Z
DTEND:20250918T190000Z
CATEGORIES:Stadt Wassertrüdingen
SUMMARY:Teilraumwerkstatt für Obermögersheim, Geilsheim, Fürnheim
DESCRIPTION:Wassertrüdingen lädt zur Mitgestaltung ein | Die Stadt Wassertrüdingen treibt ihr Gemeindeentwicklungskonzept weiter voran und setzt dabei auf die aktive Beteiligung ihrer Bürgerinnen und Bürger. Nach umfassenden Analysen, Haushaltsbefragungen und Ortsteilspaziergängen liegen nun erste Maßnahmenpläne für die einzelnen Ortsteile vor.Um diese Pläne gemeinsam mit der Bevölkerung zu prüfen und weiterzuentwickeln, lädt die Stadt zu sogenannten Teilraumwerkstätten ein. Dort haben die Einwohnerinnen und Einwohner die Möglichkeit, sich über den aktuellen Stand der Planungen zu informieren und eigene Vorschläge einzu\ningen.„Die Teilraumwerkstätten sind ein wichtiger Schritt, um die individuellen Bedürfnisse und Ideen der Ortsteile in die Planung zu integrieren“, betont die Stadtverwaltung. Das Planungsbüro GEO-PLAN wird die Veranstaltungen fachlich begleiten und moderieren. |   | Termine der Teilraumwerkstätten:Donnerstag, 18. September 2025, 19:00–21:00 Uhr für die Ortsteile Obermögersheim, Geilsheim, FürnheimDienstag, 07. Oktober 2025, 19:00–21:00 Uhr für die Ortsteile Altentrüdingen, Reichenbach, SchobdachBeide Veranstaltungen finden im Bürgersaal, Markstraße 11 in Wassertrüdingen statt. Der Zugang erfolgt über die Rückseite des Radlhotels, direkt neben der Kirche. | Gefördert von der Städtebauförderung sowie dem Amt für ländliche Entwicklung Mittelfranken | Organisator   Stadt Wassertrüdingen | Marktstraße 9 | 91717 Wassertrüdingen | Kontakt   Stadtbauamt | 09832/6822-57
LOCATION:Bürgersaal, Marktstraße 11
 Zugang über Rückseite Radl-Hotel an der Kirche
UID:3f8abaf91f18eed5caa9b26453ad7d79-af80bae0e65515c8b590d0e77afd5fee
PRIORITY:3
END:VEVENT
END:VCALENDAR
