BEGIN:VCALENDAR
VERSION:1.0
PRODID:Open2CKalenderExportV11
BEGIN:VEVENT
DTSTAMP:20250919T051529Z
DTSTART:20241201T000000Z
DTEND:20250831T000000Z
CATEGORIES:Ausstellungen
SUMMARY:Sonderausstellung "Knopfkunst trifft Holzkunst" vom 01.12.2024 bis 31.08.2025
DESCRIPTION:Ab dem 01.12.2024 können Sie sich die neue Sonderausstellung "Knopfkunst trifft Holzkunst" der Künstlerin Ruth König aus Fürth im Museum FLUVIUS ansehen. Wir freuen uns auf Ihren Besuch! |   |  |   | Die Künstlerin Ruth König aus Fürth hat ihre talentierte handwerkliche Gabe zu zwei ganz besonderen Kunsttechniken in dieser Ausstellung vereint: Sie macht aus kleinen Knöpfen große Kunstwerke und stellt aus kleinen Holzteilen meisterhaft komponierte Stücke her. | Genießen Sie diese Ausstellung und lassen sich von den Kunstwerken verzaubern. | Organisator   Museum FLUVIUS - Fluss und Teich | Kontakt   09832/6822-15 | fluvius@stadt-wassertruedingen.de
LOCATION:Museum FLUVIUS - Fluss und Teich
 Marktstraße 1
 91717 Wassertrüdingen
UID:150f0ba2fb0352cb6742a993c9b39645-3369e95c731b65273439e1dbbfb78cb6
PRIORITY:3
END:VEVENT
BEGIN:VEVENT
DTSTAMP:20231017T075728Z
DTSTART:20250711T000000Z
DTEND:20250713T000000Z
CATEGORIES:Vereine
SUMMARY:125 Jahre Feuerwehr Schobdach
DESCRIPTION:
LOCATION:Schobdach
UID:88d6c79ef742812a8474f92593fc156c-5801aaa4fe30b4ee2b441f805b945319
PRIORITY:3
END:VEVENT
BEGIN:VEVENT
DTSTAMP:20250516T050049Z
DTSTART:20250726T190000Z
DTEND:20250726T190000Z
CATEGORIES:Bühnen
SUMMARY:Sunny Place rockt
DESCRIPTION:
LOCATION:Wörnitzfreibad, Wassertrüdingen
UID:397da7948410b5f71f1693700727dc3e-09c9c9ae7107b9dfadb8807d9e00269c
PRIORITY:3
END:VEVENT
END:VCALENDAR
