BEGIN:VCALENDAR
VERSION:1.0
PRODID:Open2CKalenderExportV11
BEGIN:VEVENT
DTSTAMP:20250919T051529Z
DTSTART:20241201T000000Z
DTEND:20250831T000000Z
CATEGORIES:Ausstellungen
SUMMARY:Sonderausstellung "Knopfkunst trifft Holzkunst" vom 01.12.2024 bis 31.08.2025
DESCRIPTION:Ab dem 01.12.2024 können Sie sich die neue Sonderausstellung "Knopfkunst trifft Holzkunst" der Künstlerin Ruth König aus Fürth im Museum FLUVIUS ansehen. Wir freuen uns auf Ihren Besuch! |   |  |   | Die Künstlerin Ruth König aus Fürth hat ihre talentierte handwerkliche Gabe zu zwei ganz besonderen Kunsttechniken in dieser Ausstellung vereint: Sie macht aus kleinen Knöpfen große Kunstwerke und stellt aus kleinen Holzteilen meisterhaft komponierte Stücke her. | Genießen Sie diese Ausstellung und lassen sich von den Kunstwerken verzaubern. | Organisator   Museum FLUVIUS - Fluss und Teich | Kontakt   09832/6822-15 | fluvius@stadt-wassertruedingen.de
LOCATION:Museum FLUVIUS - Fluss und Teich
 Marktstraße 1
 91717 Wassertrüdingen
UID:150f0ba2fb0352cb6742a993c9b39645-3369e95c731b65273439e1dbbfb78cb6
PRIORITY:3
END:VEVENT
BEGIN:VEVENT
DTSTAMP:20241126T122011Z
DTSTART:20241210T200000Z
DTEND:20241210T200000Z
CATEGORIES:Bühnen
SUMMARY:Wie angelt man sich einen Feministen?
DESCRIPTION:von Samantha EllisDeutsch von Silke Pfeiffer |   | Eine romantische Komödie | Kate steht auf Mistkerle. Dachte sie jedenfalls immer. Bis sie bei einer Kostümparty auf Steve trifft. Steve ist eigentlich so gar nicht ihr Typ – denn er ist Feminist: Vor einem leidenschaftlichen Kuss fragt er lieber gleich dreimal nach, ob er denn nun darf oder nicht. Trotzdem beschließen die beiden nach achtzehn Monaten zu heiraten. Ein Vorhaben, das schon im Vorhinein zum Scheitern verurteilt zu sein scheint. Und als hätten Kate und Steve es nicht schon schwer genug miteinander, mischen auch noch ihre Eltern und Ex-Partner kräftig mit. | Eine rasante Komödie mit einer Schauspielerin und einem Schauspieler in insgesamt sechs Rollen.  | Aufführungsrechte: Rowohlt Theater Verlag, Hamburg |   |  | Copyright: Hans von Draminski, Landestheater Dinkelsbühl
LOCATION:In der Aula der Realschule, Bahnhofstraße 12 in Wassertrüdingen
UID:1b55e9d99d85fdafc84b5f3dc244a02b-f0ef695aa89ee3b8e569f2bd78411c87
PRIORITY:3
END:VEVENT
BEGIN:VEVENT
DTSTAMP:20241104T101046Z
DTSTART:20241221T190000Z
DTEND:20241221T190000Z
CATEGORIES:Vereine
SUMMARY:Schafkopfturnier im Sportheim in Obermögersheim
DESCRIPTION: | Organisator   SVO Obermögersheim
LOCATION:Sportheim in Obermögersheim
UID:ebfa6d14ab44c0ba2b18bd38da8e0ff7-e4692af23af461a8b02b79de1cbc6390
PRIORITY:3
END:VEVENT
END:VCALENDAR
