BEGIN:VCALENDAR
VERSION:1.0
PRODID:Open2CKalenderExportV11
BEGIN:VEVENT
DTSTAMP:20241118T142405Z
DTSTART:20250329T000000Z
DTEND:20250329T000000Z
CATEGORIES:Wörnitz-Flussbad
SUMMARY:Eröffnungsfeier der Badesaison 2025 im Wörnitzflussbad
DESCRIPTION:
LOCATION:Wörnitzflussbad Wassertrüdingen
UID:55375762c280db7c55b239c1474f67c2-915432e6664a0bda575294a85d0bcc66
PRIORITY:3
END:VEVENT
END:VCALENDAR
