BEGIN:VCALENDAR
VERSION:1.0
PRODID:Open2CKalenderExportV11
BEGIN:VEVENT
DTSTAMP:20250130T141330Z
DTSTART:20250329T193000Z
DTEND:20250329T193000Z
CATEGORIES:Specials
SUMMARY:Kreuzweise. Ein Zusammenspiel von Gedanken, Bildern und Musik
DESCRIPTION:„In KREUZWEISE verbirgt sich ein unver\nauchter Blick auf das Kreuz. Ein Blick hin zu dem, was mit überzeugender Durchschlagskraft für die Existenz eines Menschen liebenden Gottes spricht, der Leben verändert. Damals wie heute. In KREUZWEISE verweben sich Geschichten, Gedanken, Lieder und Illustrationen und werben für eine hoffnungsvolle Kultur des Miteinanders. Auf dass wir kreuzweise werden, anstatt uns kreuzweise zu können!“ |   | www.centralarts.net/kreuzweise | Organisator   Liebenzeller Gemeinschaft
LOCATION:Brauhausstr. 30, 91717 Wassertrüdingen
UID:d68473875e04822ce2d0b946571875a2-6d5ff3d72477defd4c652f2245ce6e34
PRIORITY:3
END:VEVENT
END:VCALENDAR
