BEGIN:VCALENDAR
VERSION:1.0
PRODID:Open2CKalenderExportV11
BEGIN:VEVENT
DTSTAMP:20250331T174440Z
DTSTART:20250530T000000Z
DTEND:20250531T000000Z
CATEGORIES:Bühnen
SUMMARY:Hip-Hop-Festival
DESCRIPTION:
LOCATION:Festplatz Bürg
UID:247e2ae9dbf9f35f074a31cb803c7388-7333543f1cc6c770bec7630d0a8ba102
PRIORITY:3
END:VEVENT
END:VCALENDAR
