BEGIN:VCALENDAR
VERSION:1.0
PRODID:Open2CKalenderExportV11
BEGIN:VEVENT
DTSTAMP:20250325T081805Z
DTSTART:20250405T090000Z
DTEND:20250405T130000Z
CATEGORIES:Verschiedenes
SUMMARY:RAMA DAMA - Trüding putzt sich raus (Flursammlung)
DESCRIPTION:Treffpunkt ist der Bauhof in der Opfenrieder Straße 3 / Ulmenweg in Wassertrüdingen. |   | Persönliche Ausrüstung für die Müllsammelaktion: |  | Eimer | Handschuhe | Warnweste | Bollerwagen | Fahradanhänger | Verpflegung | etc. |  |  
LOCATION:
UID:b204c930c5357bfea07611171d0ac47c-2f8d76a81181ac77c964a2cc0a768081
PRIORITY:3
END:VEVENT
END:VCALENDAR
