BEGIN:VCALENDAR
VERSION:1.0
PRODID:Open2CKalenderExportV11
BEGIN:VEVENT
DTSTAMP:20250911T080806Z
DTSTART:20251030T190000Z
DTEND:20251030T190000Z
CATEGORIES:Stadt Wassertrüdingen
SUMMARY:Jugendworkshop
DESCRIPTION:Jugendworkshop zur Stadt- und Ortsteilentwicklung – Jugendliche gestalten Zukunft mit | Die Stadt Wassertrüdingen lädt alle Jugendlichen herzlich zu einem Jugendworkshop im Rahmen der aktuellen Stadt- und Ortsteilentwicklung ein. Der Workshop findet am Donnerstag, 30. Oktober 2025, um 19 Uhr im Bürgersaal Marktstraße 11, Wassertrüdingen statt.Im Zuge der Erstellung eines integrierten städtebaulichen Entwicklungskonzepts (ISEK) für die Kernstadt sowie eines Gemeindeentwicklungskonzepts für die Ortsteile möchte die Stadt gezielt die Perspektive junger Menschen einbeziehen. | Das Verfahren wird durch die Städtebauförderung und das Amt für Ländliche Entwicklung unterstützt und verfolgt das Ziel, Wassertrüdingen und seine Ortsteile als attraktive und lebenswerte Orte für alle Generationen weiterzuentwickeln.„Die Jugend ist die Zukunft unserer Stadt – deshalb ist es uns besonders wichtig, ihre Ideen und Anliegen direkt in die Planungen einzubeziehen“, betont die Stadtverwaltung.Im Workshop sollen Jugendliche die Möglichkeit erhalten, ihre Sicht auf Wassertrüdingen zu teilen: Was läuft gut? Wo gibt es Probleme? Was fehlt? Und was muss sich ändern, damit junge Menschen auch künftig gerne hier leben? Je nach Teilnehmerzahl wird in Gruppen gearbeitet, um gemeinsam konkrete Vorschläge und Projektideen zu entwickeln.Die Stadt Wassertrüdingen freut sich auf eine rege Teilnahme und einen offenen Austausch mit der jungen Generation. |   | Gefördert von der Städtebauförderung sowie dem Amt für ländliche Entwicklung Mittelfranken | Organisator   Stadt Wassertrüdingen | Marktstraße 9 | 91717 Wassertrüdingen | Kontakt   Stadtbauamt | 09832/6822-57
LOCATION:Bürgersaal, Marktstraße 11
 Zugang über Rückseite Radl-Hotel an der Kirche
UID:8584930a6507f8a5e30d1da1922b181d-ee576b5f5f83da7bb52b9876e4dd0b95
PRIORITY:3
END:VEVENT
END:VCALENDAR
