BEGIN:VCALENDAR
VERSION:1.0
PRODID:Open2CKalenderExportV11
BEGIN:VEVENT
DTSTAMP:20251016T133532Z
DTSTART:20261004T120000Z
DTEND:20261004T170000Z
CATEGORIES:Märkte
SUMMARY:Herbstmarkt
DESCRIPTION:Der Herbstmarkt, organisiert von der Werbegemeinschaft Wassertrüdingen, ist ein beliebtes Ereignis, das die Stadt jedes Jahr im Oktober mit Leben füllt. Zahlreiche Stände laden zum Bummeln, Staunen und Schlemmen ein. Von herbstlicher Deko und regionalen Spezialitäten über handgefertigte Kunstwerke bis hin zu originellen Geschenkideen – hier findet jeder etwas nach seinem Geschmack.  | Ein Besuch lohnt sich – für Jung und Alt, für Familien, Freunde und alle, die den goldenen Herbst mögen. | Organisator   Werbegemeinschaft Wassertrüdingen
LOCATION:Marktstraße / Bahnhofstraße
UID:e76c813a92387523cbf53ce7f8433363-4b23292f12c568b44c9f087ea7799c6a
PRIORITY:3
END:VEVENT
BEGIN:VEVENT
DTSTAMP:20251021T072037Z
DTSTART:20261011T000000Z
DTEND:20261011T000000Z
CATEGORIES:Kirchweih
SUMMARY:Kirchweih Obermögersheim
DESCRIPTION:
LOCATION:
UID:33d8c965a324392bc9a22f36d566247d-242353f2cdf5f55f56a0b64373797e66
PRIORITY:3
END:VEVENT
BEGIN:VEVENT
DTSTAMP:20251021T072124Z
DTSTART:20261011T000000Z
DTEND:20261011T000000Z
CATEGORIES:Kirchweih
SUMMARY:Kirchweih Altentrüdingen
DESCRIPTION:
LOCATION:
UID:33d8c965a324392bc9a22f36d566247d-087f427d2bb77d328465b262c0aa3a4e
PRIORITY:3
END:VEVENT
BEGIN:VEVENT
DTSTAMP:20251103T080623Z
DTSTART:20261015T000000Z
DTEND:20261019T000000Z
CATEGORIES:Kirchweih
SUMMARY:Kirchweih Fürnheim
DESCRIPTION:
LOCATION:
UID:632583672b47ccfeea08dddcb28b5819-2db1dd17ef52570386a0640f64f256b9
PRIORITY:3
END:VEVENT
END:VCALENDAR
