BEGIN:VCALENDAR
VERSION:2.0
PRODID:< http://www.open2c.de/ >
METHOD:PUBLISH
X-PUBLISHED-TTL:PT12H
BEGIN:VEVENT
CREATED:20231017T061404Z
LAST-MODIFIED:20231017T071651Z
DTSTAMP:20260422T084730Z
DTSTART:20240907T000000Z
DTEND:20240908T000000Z
CATEGORIES:Märkte
SUMMARY:Altstadtgenuss mit Straßenmusik
DESCRIPTION:Der Altstadtgenuss lädt zu genau diesem ein: Genießen Sie das
	 Ambiente und die Musik in der Altstadt! Neben den musikalischen Genuss li
	egt der Fokus auch auf den kulinarischen Highlights aus der Region. Zahlre
	iche Stände präsentieren und verkaufen in der gesamten Wassertrüdinger 
	Altstadt regionale Produkte\, selbsthergestellte Waren und einheimische Spe
	isen. Der Genussmarkt lädt zum Bummeln und Verweilen ein und zeigt die Vi
	elfältigkeit der drei Landkreise Ansbach\, Weißenburg-Gunzenhausen und Do
	nau-Ries. Abgerundet wird der Markt mit toller Straßenmusik.
LOCATION:Marktstraße
UID:628cf72af3e4167a1559b344572ac4fc@47ecbed70cec9169078cc60edac3d7a2
END:VEVENT
BEGIN:VEVENT
CREATED:20231017T071850Z
LAST-MODIFIED:20231017T072921Z
ORGANIZER;CN="Mud Masters B.V.\, Kanaalweg 22\, 3526 KM Utrecht\, Die Niederlande":MAILTO:https://mudmasters.de/
DTSTAMP:20260422T084730Z
DTSTART;VALUE=DATE:20240907
CATEGORIES:Sport
SUMMARY:Mud Masters
DESCRIPTION:Mud Masters Obstacle Run ist ein spannender Hindernis-Parcours\,
	 der an echte Marine-Parcours angelehnt ist. Du wirst dich wie der Actionh
	eld fühlen\, der du immer sein wolltest\, und überwindest zusammen mit dei
	nen Freunden und anderen Teilnehmern die spektakulärsten Hindernisse. Mud
	 Masters leave no one behind! Und das Schöne ist: Durch die verschiedenen
	 Entfernungen kann wirklich jeder die Herausforderung annehmen… Auch du!
	 Wetten?   Weitere Informationen und die Anmeldung finden Sie auf der Hom
	epage des Veranstalters.    Organisator Mud Masters B.V.\, Kanaalweg 22\, 
	3526 KM Utrecht\, Die Niederlande Kontakt https://mudmasters.de/
LOCATION:Festplatz Wassertrüdingen und Oettinger Forst
UID:b7b6064e2a01258467c2c68e2dca482d@47ecbed70cec9169078cc60edac3d7a2
END:VEVENT
BEGIN:VEVENT
CREATED:20231023T060335Z
LAST-MODIFIED:20231023T060512Z
DTSTAMP:20260422T084730Z
DTSTART;VALUE=DATE:20240922
CATEGORIES:Kirchweih
SUMMARY:Kirchweih Schobdach
LOCATION:Schobdach
UID:cd654da96b90274c94b641a3986555f0@47ecbed70cec9169078cc60edac3d7a2
END:VEVENT
BEGIN:VEVENT
CREATED:20240205T084350Z
LAST-MODIFIED:20240709T064048Z
DTSTAMP:20260422T084730Z
DTSTART;VALUE=DATE:20240922
CATEGORIES:Konzerte allgemein
SUMMARY:Familienkonzert
DESCRIPTION:Am Sonntag\, den 22.09.2024 lädt Simone Gries zum Konzert mit F
	amilie Hubert in den Bürgersaal (Kirchgasse\, 91717 Wassertrüdingen) ein.
	 Der Beginn ist um 17 Uhr\, Einlass um 16:30 Uhr. Die Musikerfamilie mit Ma
	nfred und Arnold an der Violine\, Anton an Violine und Viola und Tatiana am
	 Klavier bietet abwechslungsreiche musikalische Darbietungen. Der Eintritt
	 ist frei.
LOCATION:Bürgersaal Wassertrüdingen
UID:6b19c0051641eadddfc5eea79097a52d@47ecbed70cec9169078cc60edac3d7a2
END:VEVENT
BEGIN:VEVENT
CREATED:20240925T055502Z
LAST-MODIFIED:20240925T060053Z
DTSTAMP:20260422T084730Z
DTSTART;VALUE=DATE:20240929
CATEGORIES:Kinder
SUMMARY:Der kleine Drache Eljot
DESCRIPTION:Das Figurentheater Wassertrüdingen lädt zu dem Stück "Der kl
	eine Drache Eljot" ein.   Für alle ab 3 Jahren\; Spieldauer: ca. 45 Min\,\;
	 Reservierung erwünscht Reservierungstelefon: 0163/4999865
LOCATION:Neue Schulgasse 1\, Wassertrüdingen
UID:3ac481fd856df4b40c38cdde6cad91f0@47ecbed70cec9169078cc60edac3d7a2
END:VEVENT
END:VCALENDAR