BEGIN:VCALENDAR
VERSION:2.0
PRODID:< http://www.open2c.de/ >
METHOD:PUBLISH
X-PUBLISHED-TTL:PT12H
BEGIN:VEVENT
CREATED:20231017T071850Z
LAST-MODIFIED:20231017T072921Z
ORGANIZER;CN="Mud Masters B.V.\, Kanaalweg 22\, 3526 KM Utrecht\, Die Niederlande":MAILTO:https://mudmasters.de/
DTSTAMP:20260422T102719Z
DTSTART;VALUE=DATE:20240907
CATEGORIES:Sport
SUMMARY:Mud Masters
DESCRIPTION:Mud Masters Obstacle Run ist ein spannender Hindernis-Parcours\,
	 der an echte Marine-Parcours angelehnt ist. Du wirst dich wie der Actionh
	eld fühlen\, der du immer sein wolltest\, und überwindest zusammen mit dei
	nen Freunden und anderen Teilnehmern die spektakulärsten Hindernisse. Mud
	 Masters leave no one behind! Und das Schöne ist: Durch die verschiedenen
	 Entfernungen kann wirklich jeder die Herausforderung annehmen… Auch du!
	 Wetten?   Weitere Informationen und die Anmeldung finden Sie auf der Hom
	epage des Veranstalters.    Organisator Mud Masters B.V.\, Kanaalweg 22\, 
	3526 KM Utrecht\, Die Niederlande Kontakt https://mudmasters.de/
LOCATION:Festplatz Wassertrüdingen und Oettinger Forst
UID:b7b6064e2a01258467c2c68e2dca482d@47ecbed70cec9169078cc60edac3d7a2
END:VEVENT
END:VCALENDAR