BEGIN:VCALENDAR
VERSION:2.0
PRODID:< http://www.open2c.de/ >
METHOD:PUBLISH
X-PUBLISHED-TTL:PT12H
BEGIN:VEVENT
CREATED:20231023T061032Z
LAST-MODIFIED:20231023T062129Z
DTSTAMP:20260422T085951Z
DTSTART;VALUE=DATE:20241006
CATEGORIES:Märkte
SUMMARY:Herbstmarkt
LOCATION:Markt- und Bahnhofstraße
UID:76e864d18f30d658bd5ffccab9d004db@47ecbed70cec9169078cc60edac3d7a2
END:VEVENT
END:VCALENDAR