BEGIN:VCALENDAR
VERSION:2.0
PRODID:< http://www.open2c.de/ >
METHOD:PUBLISH
X-PUBLISHED-TTL:PT12H
BEGIN:VEVENT
CREATED:20231023T062202Z
LAST-MODIFIED:20231023T062315Z
DTSTAMP:20260422T085547Z
DTSTART;VALUE=DATE:20241013
CATEGORIES:Kirchweih
SUMMARY:Kirchweih Obermögersheim
LOCATION:Obermögersheim
UID:b3a0b55376425c164beae12e785542e0@47ecbed70cec9169078cc60edac3d7a2
END:VEVENT
END:VCALENDAR