BEGIN:VCALENDAR
VERSION:2.0
PRODID:< http://www.open2c.de/ >
METHOD:PUBLISH
X-PUBLISHED-TTL:PT12H
BEGIN:VEVENT
CREATED:20231023T062439Z
LAST-MODIFIED:20231023T062543Z
DTSTAMP:20260422T091117Z
DTSTART;VALUE=DATE:20241013
CATEGORIES:Kirchweih
SUMMARY:Kirchweih Altentrüdingen
LOCATION:Altentrüdingen
UID:a01a6a9bf7eae6cd279d4b98ff378fec@47ecbed70cec9169078cc60edac3d7a2
END:VEVENT
END:VCALENDAR