BEGIN:VCALENDAR
VERSION:2.0
PRODID:< http://www.open2c.de/ >
METHOD:PUBLISH
X-PUBLISHED-TTL:PT12H
BEGIN:VEVENT
CREATED:20231023T062605Z
LAST-MODIFIED:20231023T062657Z
DTSTAMP:20260422T090955Z
DTSTART;VALUE=DATE:20241013
CATEGORIES:Kirchweih
SUMMARY:Kirchweih Fürnheim
LOCATION:Fürnheim
UID:979a8db1bf5cc0e447184789a5fb0d9f@47ecbed70cec9169078cc60edac3d7a2
END:VEVENT
END:VCALENDAR