BEGIN:VCALENDAR
VERSION:2.0
PRODID:< http://www.open2c.de/ >
METHOD:PUBLISH
X-PUBLISHED-TTL:PT12H
BEGIN:VEVENT
CREATED:20231023T062721Z
LAST-MODIFIED:20231023T062820Z
DTSTAMP:20260420T113048Z
DTSTART;VALUE=DATE:20241103
CATEGORIES:Märkte
SUMMARY:Mantelmarkt
LOCATION:Markt- und Bahnhofstraße
UID:c66f7812e63a2775140a9428a87dfbde@47ecbed70cec9169078cc60edac3d7a2
END:VEVENT
END:VCALENDAR