BEGIN:VCALENDAR
VERSION:2.0
PRODID:< http://www.open2c.de/ >
METHOD:PUBLISH
X-PUBLISHED-TTL:PT12H
BEGIN:VEVENT
CREATED:20240205T090309Z
LAST-MODIFIED:20241001T115108Z
DTSTAMP:20260422T084323Z
DTSTART;VALUE=DATE:20241019
CATEGORIES:Konzerte allgemein
SUMMARY:Konzert mit dem Duo Klezmotions
DESCRIPTION:Am Samstag\, den 19.10.2024 lädt Simone Gries zum Konzert mit d
	em Duo Klezmotions in den Bürgersaal (Kirchgasse\, 91717 Wassertrüdingen)
	 ein.   Duo Klezmotions begleitet Astor Piazzolla\, den berühmten Tangoko
	mponisten und Bandoneonspieler auf seiner musikalischen Entdeckungsreise i
	n die Hauptstadt Frankreichs\, auf der er große Persönlichkeiten trifft\, 
	wie die Chanson-Sängerin Edith Piaf\, den französischen Tango-Komponisten
	 Richard Galliano und seinen argentinischen Landsmann\, Klarinettist Giora 
	Feidman.Stefanie Pagnia\, Violine\, und Claudia Burkhardt\, Akkordeon\, erweck
	en die unterschiedlichen Charaktere zum Leben und lassen deren legendären
	 und berühmten Musikstücke im perfekten Zusammenspiel ihrer Instrumente 
	und klaren Stimmen\, in ihrer ganz persönlichen Interpretation erklingen. 
	Die Musikerinnen moderieren abwechselnd die berührende Geschichte Piazzol
	las.   Freuen Sie sich auf spannende Tangos\, beschwingte Musettes\, lebend
	igen Klezmer und tiefgehende Eigenkompositionen. Im Programm: La vie en ro
	se\, Libertango\, Revirado\, Por una Cabeza\, MazeltovStefanie Pagnia: Violine
	\, Stimme\, KontrabassClaudia Burkhardt: Akkordeon\, Stimme   Der Beginn ist
	 um 19:30 Uhr\, Einlass um 19:00 Uhr. Der Eintritt ist frei.   Das Plakat 
	zur Veranstaltung finden Sie hier und weitere Informationen zum Duo Klezmo
	tions
LOCATION:Bürgersaal Wassertrüdingen
UID:dbdf06748ebde9343e3acd0dc97d859b@47ecbed70cec9169078cc60edac3d7a2
END:VEVENT
END:VCALENDAR