BEGIN:VCALENDAR
VERSION:2.0
PRODID:< http://www.open2c.de/ >
METHOD:PUBLISH
X-PUBLISHED-TTL:PT12H
BEGIN:VEVENT
CREATED:20240924T130622Z
LAST-MODIFIED:20241022T053847Z
DTSTAMP:20260422T104856Z
DTSTART;VALUE=DATE:20241105
CATEGORIES:Bühnen
SUMMARY:Die Wunderübung
DESCRIPTION:von Daniel Glattauer   Eine Paartherapie der besonderen Art  
	 Wenn zwei sich zanken\, dann sitzt der Dritte in der Mitte. So auch bei Va
	lentin und Joana Dorek. Allgemeine Frustration\, Betrügereien\, gegenseitig
	e Vorwürfe und ungelöste Konflikte haben ihre Ehe auf das Äußerste zer
	mürbt – ein Paartherapeut soll nun Abhilfe schaffen. Doch sind die zwei
	 Zankhälse überhaupt noch therapierbar? Mithilfe verschiedener Rollenspi
	ele sollen Valentin und Joana wieder zueinander finden. Als der erschöpft
	e Berater in der Sitzungspause eine Nachricht auf seinem Handy erhält\, sc
	heinen ihn die Probleme seiner beiden Klienten jedoch mit einem Mal gar ni
	cht mehr zu interessieren…Daniel Glattauers Komödie wurde 2018 mit Devi
	d Striesow in der Rolle des Valentin Dorek verfilmt. Das Publikum erwartet
	 ein Abend voller lustvoller Streits und überraschender Wendungen.
LOCATION:in der Aula der Realschule\, Bahnhofstr. 12 in Wassertrüdingen
UID:69fd0f498147a23fcd7778a1b5ddefd0@47ecbed70cec9169078cc60edac3d7a2
END:VEVENT
END:VCALENDAR