BEGIN:VCALENDAR
VERSION:2.0
PRODID:< http://www.open2c.de/ >
METHOD:PUBLISH
X-PUBLISHED-TTL:PT12H
BEGIN:VEVENT
CREATED:20240925T054602Z
LAST-MODIFIED:20241104T094422Z
DTSTAMP:20260420T063206Z
DTSTART;VALUE=DATE:20250204
CATEGORIES:Bühnen
SUMMARY:Das perfekte Geheimnis
DESCRIPTION:(Perfetti Sconosciuti)Stück von Paolo GenoveseNach dem italien
	ischen Originalfilm "Perfetti Sconosciuti" von Paolo GenoveseDeutsch von S
	abine Heymann   Hier hat jeder etwas zu verbergen   Sieben Handys liegen
	 auf dem Tisch. Alle eingehenden Nachrichten und Anrufe werden für die Da
	uer eines Abends mit der gesamten Gruppe geteilt. Was soll da schon groß 
	schiefgehen?Was als harmloses Spiel unter befreundeten Paaren beginnt\, lö
	st schnell eine Reihe von Reibereien und Missverständnissen aus. Als nach
	 und nach die heimlichen Betrügereien und unentdeckten Leidenschaften der
	 Mitspielenden ans Tageslicht treten\, stellt sich heraus: Hier haben wirkl
	ich alle ein Geheimnis! Die international höchst erfolgreiche Komödie ka
	m 2019 mit Stars wie Elyas M’Barek\, Karoline Herfurth und Florian David 
	Fitz in die deutschen Kinos und nun auch ins Landestheater Dinkelsbühl. 
	 Aufführungsrechte: PER H. LAUKE VERLAG\, Hamburgwww.laukeverlag.de
LOCATION:In der Aula der Realschule\, Bahnhofstraße 12 in Wassertrüdingen
UID:b5f4a353c617f1894bcf8159aadec796@47ecbed70cec9169078cc60edac3d7a2
END:VEVENT
END:VCALENDAR