BEGIN:VCALENDAR
VERSION:2.0
PRODID:< http://www.open2c.de/ >
METHOD:PUBLISH
X-PUBLISHED-TTL:PT12H
BEGIN:VEVENT
CREATED:20241104T090651Z
LAST-MODIFIED:20241104T090730Z
DTSTAMP:20260419T203614Z
DTSTART;VALUE=DATE:20250629
CATEGORIES:Märkte
SUMMARY:Afrika-Karibik-Markt
DESCRIPTION:Zahlreiche Stände laden zu einem entspannten Bummel ein. Auch 
	Kulinarisch ist wieder einiges geboten. Ein buntes Rahmenprogramm auf der 
	Bühne und zahlreich Acts im Gelände sorgen für Unterhaltung.
LOCATION:Festplatz
UID:ea38c3c3c4af15d020e27477acd5ca37@47ecbed70cec9169078cc60edac3d7a2
END:VEVENT
END:VCALENDAR