BEGIN:VCALENDAR
VERSION:2.0
PRODID:< http://www.open2c.de/ >
METHOD:PUBLISH
X-PUBLISHED-TTL:PT12H
BEGIN:VEVENT
CREATED:20241104T092613Z
LAST-MODIFIED:20241104T092659Z
DTSTAMP:20260419T151157Z
DTSTART;VALUE=DATE:20250907
CATEGORIES:Märkte
SUMMARY:Kirchweihmarkt
LOCATION:Bahnhofstraße
UID:692eb8d4e6f464fc96f35c7a156e12c5@47ecbed70cec9169078cc60edac3d7a2
END:VEVENT
BEGIN:VEVENT
CREATED:20250910T223726Z
LAST-MODIFIED:20250911T080823Z
ORGANIZER;CN="Stadt Wassertrüdingen\nMarktstraße 9\n91717 Wassertrüdingen":MAILTO:Stadtbauamt\n09832/6822-57
DTSTAMP:20260419T151157Z
DTSTART;VALUE=DATE:20250918
CATEGORIES:Stadt Wassertrüdingen
SUMMARY:Teilraumwerkstatt für Obermögersheim\, Geilsheim\, Fürnheim
DESCRIPTION:Wassertrüdingen lädt zur Mitgestaltung ein Die Stadt Wassertr
	üdingen treibt ihr Gemeindeentwicklungskonzept weiter voran und setzt dab
	ei auf die aktive Beteiligung ihrer Bürgerinnen und Bürger. Nach umfasse
	nden Analysen\, Haushaltsbefragungen und Ortsteilspaziergängen liegen nun 
	erste Maßnahmenpläne für die einzelnen Ortsteile vor.Um diese Pläne ge
	meinsam mit der Bevölkerung zu prüfen und weiterzuentwickeln\, lädt die 
	Stadt zu sogenannten Teilraumwerkstätten ein. Dort haben die Einwohnerinn
	en und Einwohner die Möglichkeit\, sich über den aktuellen Stand der Plan
	ungen zu informieren und eigene Vorschläge einzubringen.„Die Teilraumwe
	rkstätten sind ein wichtiger Schritt\, um die individuellen Bedürfnisse u
	nd Ideen der Ortsteile in die Planung zu integrieren“\, betont die Stadtv
	erwaltung. Das Planungsbüro GEO-PLAN wird die Veranstaltungen fachlich be
	gleiten und moderieren.   Termine der Teilraumwerkstätten:Donnerstag\, 18
	. September 2025\, 19:00–21:00 Uhr für die Ortsteile Obermögersheim\, Ge
	ilsheim\, FürnheimDienstag\, 07. Oktober 2025\, 19:00–21:00 Uhr für die O
	rtsteile Altentrüdingen\, Reichenbach\, SchobdachBeide Veranstaltungen find
	en im Bürgersaal\, Markstraße 11 in Wassertrüdingen statt. Der Zugang er
	folgt über die Rückseite des Radlhotels\, direkt neben der Kirche. Geför
	dert von der Städtebauförderung sowie dem Amt für ländliche Entwicklun
	g Mittelfranken Organisator Stadt Wassertrüdingen Marktstraße 9 91717 Wa
	ssertrüdingen Kontakt Stadtbauamt 09832/6822-57
LOCATION:Bürgersaal\, Marktstraße 11\nZugang über Rückseite Radl-Hotel an der Kirche
UID:8e22539c1a5bab3ff8dd3088e355c12e@47ecbed70cec9169078cc60edac3d7a2
END:VEVENT
END:VCALENDAR