BEGIN:VCALENDAR
VERSION:2.0
PRODID:< http://www.open2c.de/ >
METHOD:PUBLISH
X-PUBLISHED-TTL:PT12H
BEGIN:VEVENT
CREATED:20241104T100745Z
LAST-MODIFIED:20241104T101046Z
ORGANIZER;CN="SVO Obermögersheim"
DTSTAMP:20260420T095819Z
DTSTART;VALUE=DATE:20241221
CATEGORIES:Vereine
SUMMARY:Schafkopfturnier im Sportheim in Obermögersheim
DESCRIPTION:Organisator SVO Obermögersheim
LOCATION:Sportheim in Obermögersheim
UID:0a6c45c441018b4194687524ae99e2ab@47ecbed70cec9169078cc60edac3d7a2
END:VEVENT
END:VCALENDAR