BEGIN:VCALENDAR
VERSION:2.0
PRODID:< http://www.open2c.de/ >
METHOD:PUBLISH
X-PUBLISHED-TTL:PT12H
BEGIN:VEVENT
CREATED:20241114T132532Z
LAST-MODIFIED:20250919T051529Z
ORGANIZER;CN="Museum FLUVIUS - Fluss und Teich":MAILTO:09832/6822-15\nfluvius@stadt-wassertruedingen.de
DTSTAMP:20260420T063320Z
DTSTART:20241201T000000Z
DTEND:20250831T000000Z
CATEGORIES:Ausstellungen
SUMMARY:Sonderausstellung "Knopfkunst trifft Holzkunst" vom 01.12.2024 bis 31.08.2025
DESCRIPTION:Ab dem 01.12.2024 können Sie sich die neue Sonderausstellung "
	Knopfkunst trifft Holzkunst" der Künstlerin Ruth König aus Fürth im Mus
	eum FLUVIUS ansehen. Wir freuen uns auf Ihren Besuch!     Die Künstleri
	n Ruth König aus Fürth hat ihre talentierte handwerkliche Gabe zu zwei g
	anz besonderen Kunsttechniken in dieser Ausstellung vereint: Sie macht aus
	 kleinen Knöpfen große Kunstwerke und stellt aus kleinen Holzteilen meis
	terhaft komponierte Stücke her. Genießen Sie diese Ausstellung und lasse
	n sich von den Kunstwerken verzaubern. Organisator Museum FLUVIUS - Fluss 
	und Teich Kontakt 09832/6822-15 fluvius@stadt-wassertruedingen.de
LOCATION:Museum FLUVIUS - Fluss und Teich\nMarktstraße 1\n91717 Wassertrüdingen
UID:6e621d740da364cc8839f87222e0cebc@47ecbed70cec9169078cc60edac3d7a2
END:VEVENT
BEGIN:VEVENT
CREATED:20240924T133934Z
LAST-MODIFIED:20241217T110306Z
DTSTAMP:20260420T063320Z
DTSTART;VALUE=DATE:20250107
CATEGORIES:Bühnen
SUMMARY:Nein zum Geld!
DESCRIPTION:(Non à l´argent!) von Flavia Costeübersetzt von Michael Raab
	   Reich sein ist nicht alles   Die französische Komödie von Flavia Co
	ste erzählt von der menschlichen Gier nach Geld – ein kapitalismuskriti
	scher Lottogewinn der Theatersatire!Richard Carré verkündet seiner Frau 
	Claire\, seiner Mutter Rose und seinem besten Freund Etienne eine große Ü
	berraschung: Er hat 162 Millionen Euro in der Lotterie gewonnen! Diese Sac
	he hat\, zum Leidwesen seiner engsten Vertrauten\, einen ganz gewaltigen Hak
	en. Denn Richard will den Gewinn partout nicht annehmen. Schließlich wür
	de das sein bisheriges erfülltes Leben komplett aus der Bahn werfen. Clai
	re\, Rose und Etienne sind natürlich alles andere als einverstanden damit.
	 Als sich herausstellt\, dass Richards Lottoschein noch gültig ist\, sind d
	ie drei bereit\, für den großen Reichtum Grenzen zu überschreiten. Doch 
	wie weit werden sie gehen?  Aufführungsrechte: LITAG Theaterverlag\, Mün
	chen   Foto: Hans von Draminski\, Landestheater Dinkelsbühl
LOCATION:In der Aula der Realschule\, Bahnhofstraße 12 in Wassertrüdingen
UID:836aad5ab0ecd1067421fd83a588f5ab@47ecbed70cec9169078cc60edac3d7a2
END:VEVENT
END:VCALENDAR