BEGIN:VCALENDAR
VERSION:2.0
PRODID:< http://www.open2c.de/ >
METHOD:PUBLISH
X-PUBLISHED-TTL:PT12H
BEGIN:VEVENT
CREATED:20241114T132532Z
LAST-MODIFIED:20250919T051529Z
ORGANIZER;CN="Museum FLUVIUS - Fluss und Teich":MAILTO:09832/6822-15\nfluvius@stadt-wassertruedingen.de
DTSTAMP:20260420T030332Z
DTSTART:20241201T000000Z
DTEND:20250831T000000Z
CATEGORIES:Ausstellungen
SUMMARY:Sonderausstellung "Knopfkunst trifft Holzkunst" vom 01.12.2024 bis 31.08.2025
DESCRIPTION:Ab dem 01.12.2024 können Sie sich die neue Sonderausstellung "
	Knopfkunst trifft Holzkunst" der Künstlerin Ruth König aus Fürth im Mus
	eum FLUVIUS ansehen. Wir freuen uns auf Ihren Besuch!     Die Künstleri
	n Ruth König aus Fürth hat ihre talentierte handwerkliche Gabe zu zwei g
	anz besonderen Kunsttechniken in dieser Ausstellung vereint: Sie macht aus
	 kleinen Knöpfen große Kunstwerke und stellt aus kleinen Holzteilen meis
	terhaft komponierte Stücke her. Genießen Sie diese Ausstellung und lasse
	n sich von den Kunstwerken verzaubern. Organisator Museum FLUVIUS - Fluss 
	und Teich Kontakt 09832/6822-15 fluvius@stadt-wassertruedingen.de
LOCATION:Museum FLUVIUS - Fluss und Teich\nMarktstraße 1\n91717 Wassertrüdingen
UID:6e621d740da364cc8839f87222e0cebc@47ecbed70cec9169078cc60edac3d7a2
END:VEVENT
BEGIN:VEVENT
CREATED:20241118T142202Z
LAST-MODIFIED:20241118T142405Z
DTSTAMP:20260420T030332Z
DTSTART;VALUE=DATE:20250329
CATEGORIES:Wörnitz-Flussbad
SUMMARY:Eröffnungsfeier der Badesaison 2025 im Wörnitzflussbad
LOCATION:Wörnitzflussbad Wassertrüdingen
UID:533ae6fb48ebf2019225c586b4a9458e@47ecbed70cec9169078cc60edac3d7a2
END:VEVENT
BEGIN:VEVENT
CREATED:20250130T140942Z
LAST-MODIFIED:20250130T141330Z
ORGANIZER;CN="Liebenzeller Gemeinschaft"
DTSTAMP:20260420T030332Z
DTSTART;VALUE=DATE:20250329
CATEGORIES:Specials
SUMMARY:Kreuzweise. Ein Zusammenspiel von Gedanken\, Bildern und Musik
DESCRIPTION:„In KREUZWEISE verbirgt sich ein unverbrauchter Blick auf das
	 Kreuz. Ein Blick hin zu dem\, was mit überzeugender Durchschlagskraft fü
	r die Existenz eines Menschen liebenden Gottes spricht\, der Leben verände
	rt. Damals wie heute. In KREUZWEISE verweben sich Geschichten\, Gedanken\, L
	ieder und Illustrationen und werben für eine hoffnungsvolle Kultur des Mi
	teinanders. Auf dass wir kreuzweise werden\, anstatt uns kreuzweise zu kön
	nen!“   www.centralarts.net/kreuzweise Organisator Liebenzeller Gemeins
	chaft
LOCATION:Brauhausstr. 30\, 91717 Wassertrüdingen
UID:547515dce7db92ddcc5dabe672852499@47ecbed70cec9169078cc60edac3d7a2
END:VEVENT
END:VCALENDAR