BEGIN:VCALENDAR
VERSION:2.0
PRODID:< http://www.open2c.de/ >
METHOD:PUBLISH
X-PUBLISHED-TTL:PT12H
BEGIN:VEVENT
CREATED:20250516T045830Z
LAST-MODIFIED:20250516T050049Z
DTSTAMP:20260419T182546Z
DTSTART;VALUE=DATE:20250726
CATEGORIES:Bühnen
SUMMARY:Sunny Place rockt
LOCATION:Wörnitzfreibad\, Wassertrüdingen
UID:bc586608b96c2839a3b101dd9cdf444d@47ecbed70cec9169078cc60edac3d7a2
END:VEVENT
END:VCALENDAR