BEGIN:VCALENDAR
VERSION:2.0
PRODID:< http://www.open2c.de/ >
METHOD:PUBLISH
X-PUBLISHED-TTL:PT12H
BEGIN:VEVENT
CREATED:20250910T225305Z
LAST-MODIFIED:20250911T080806Z
ORGANIZER;CN="Stadt Wassertrüdingen\nMarktstraße 9\n91717 Wassertrüdingen":MAILTO:Stadtbauamt\n09832/6822-57
DTSTAMP:20260419T134344Z
DTSTART;VALUE=DATE:20251030
CATEGORIES:Stadt Wassertrüdingen
SUMMARY:Jugendworkshop
DESCRIPTION:Jugendworkshop zur Stadt- und Ortsteilentwicklung – Jugendlic
	he gestalten Zukunft mit Die Stadt Wassertrüdingen lädt alle Jugendliche
	n herzlich zu einem Jugendworkshop im Rahmen der aktuellen Stadt- und Orts
	teilentwicklung ein. Der Workshop findet am Donnerstag\, 30. Oktober 2025\, 
	um 19 Uhr im Bürgersaal Marktstraße 11\, Wassertrüdingen statt.Im Zuge d
	er Erstellung eines integrierten städtebaulichen Entwicklungskonzepts (IS
	EK) für die Kernstadt sowie eines Gemeindeentwicklungskonzepts für die O
	rtsteile möchte die Stadt gezielt die Perspektive junger Menschen einbezi
	ehen. Das Verfahren wird durch die Städtebauförderung und das Amt für L
	ändliche Entwicklung unterstützt und verfolgt das Ziel\, Wassertrüdingen
	 und seine Ortsteile als attraktive und lebenswerte Orte für alle Generat
	ionen weiterzuentwickeln.„Die Jugend ist die Zukunft unserer Stadt – d
	eshalb ist es uns besonders wichtig\, ihre Ideen und Anliegen direkt in die
	 Planungen einzubeziehen“\, betont die Stadtverwaltung.Im Workshop sollen
	 Jugendliche die Möglichkeit erhalten\, ihre Sicht auf Wassertrüdingen zu
	 teilen: Was läuft gut? Wo gibt es Probleme? Was fehlt? Und was muss sich
	 ändern\, damit junge Menschen auch künftig gerne hier leben? Je nach Tei
	lnehmerzahl wird in Gruppen gearbeitet\, um gemeinsam konkrete Vorschläge 
	und Projektideen zu entwickeln.Die Stadt Wassertrüdingen freut sich auf e
	ine rege Teilnahme und einen offenen Austausch mit der jungen Generation. 
	  Gefördert von der Städtebauförderung sowie dem Amt für ländliche E
	ntwicklung Mittelfranken Organisator Stadt Wassertrüdingen Marktstraße 9
	 91717 Wassertrüdingen Kontakt Stadtbauamt 09832/6822-57
LOCATION:Bürgersaal\, Marktstraße 11\nZugang über Rückseite Radl-Hotel an der Kirche
UID:8feac39c855619d5d7319410f3ccc40d@47ecbed70cec9169078cc60edac3d7a2
END:VEVENT
END:VCALENDAR